BEGIN:VCALENDAR
VERSION:2.0
PRODID:-//wp-events-plugin.com//7.2.3.1//EN
BEGIN:VEVENT
UID:169@nos.fi
DTSTART;TZID=Europe/Helsinki:20251106T180000
DTEND;TZID=Europe/Helsinki:20251106T193000
DTSTAMP:20251007T074658Z
URL:https://www.nos.fi/evenemang/svenska-dagen-3/
SUMMARY:Svenska Dagen
DESCRIPTION:Svenska Dagen-fest torsdagen den 6.11.2025 kl. 18 ordnas i kul
 turhuset Martinus\, Mårtensdalsvägen 36\, Vanda.\n\nPå programmet bl.a.
  musik av Vanda musikinstituts körer\, festtal av Lucas Snellman om Finla
 nds äldsta ibrukvarande skola\, Kyrkoby skola\, som fyller 200 år.\nFest
 en arrangeras av Vanda stad och Helsinge-Tusby ungdomsförbund. Deltagande
  på festen är gratis\, ingen förhandsanmälning behövs.\n\nNorr om Sta
 n och Svensk förening i Åggelby ordnar även i år busstransport till Sv
 enska Dagen-festen från Åggelby torg till och från Martinus enligt föl
 jande:\n• 17:05 Start från Åggelby torg.\n• 17:15 Påstigning vid So
 lhem\, Kyrkobyvägen 23\, Malm\n• 17:20 Påstigning vid Helsinge skola\,
  Övitsbölevägen 3\, Vanda\n• 17:30 Påstigning Nybackabacken\, Nyback
 angränden\, i korsningen av Vandadalsvägen och Övitsbölevägen\n• 17
 :40 Framme vid Martinus\, Mårtendalsvägen 36\, Vanda\n\n• Retur efter 
 festen (ca kl. 20:05\, bussen väntar tills alla resenärer är med!) frå
 n Martinus till Åggelby torg\n\nBussen är gratis och alla intresserade v
 älkomna\, men förhandsanmälan via Norr om Stan rekommenderas för att g
 aranteras plats i bussen. Anmäl dig per e-post: info@nos.fi eller per tel
 efon: 050 432 8888.
ATTACH;FMTTYPE=image/jpeg:https://www.nos.fi/wp-content/uploads/2023/08/ho
 stlov.jpg
CATEGORIES:Fest,gratis
LOCATION:Kulturhuset Martinus\, Mårtensdalsvägen 36\, Vanda\, 01620\, Fin
 land
X-APPLE-STRUCTURED-LOCATION;VALUE=URI;X-ADDRESS=Mårtensdalsvägen 36\, Van
 da\, 01620\, Finland;X-APPLE-RADIUS=100;X-TITLE=Kulturhuset Martinus:geo:0
 ,0
END:VEVENT
BEGIN:VTIMEZONE
TZID:Europe/Helsinki
X-LIC-LOCATION:Europe/Helsinki
BEGIN:STANDARD
DTSTART:20251026T030000
TZOFFSETFROM:+0300
TZOFFSETTO:+0200
TZNAME:EET
END:STANDARD
END:VTIMEZONE
END:VCALENDAR