BEGIN:VCALENDAR
VERSION:2.0
PRODID:-//wp-events-plugin.com//7.2.3.1//EN
BEGIN:VEVENT
UID:56@nos.fi
DTSTART;TZID=Europe/Helsinki:20231110T150000
DTEND;TZID=Europe/Helsinki:20231110T170000
DTSTAMP:20231006T133706Z
URL:https://www.nos.fi/evenemang/norr-om-stan-20-ar-after-work-for-vara-va
 nner/
SUMMARY:Norr om Stan 20 år - After Work för våra vänner
DESCRIPTION:Norr om Stan fyller 20 år!\nPå fredagen 10.11 välkomnas alla
  våra samarbetsparter och vänner att titta in och höja en skål för de
  följande 20 åren av fritidsverksamhet på svenska i norra Helsingfors m
 ed omnejd! Solhems dörrar är öppna kl. 15-17.  Ingen förhandsanmälni
 ng behövs. Hjärtligt välkommen!\n\n&nbsp\;\n\n&nbsp\;\n\n&nbsp\;\n\n&nb
 sp\;\n\n&nbsp\;\n\n&nbsp\;
ATTACH;FMTTYPE=image/jpeg:https://www.nos.fi/wp-content/uploads/2023/10/no
 s-logo-evenemang-1.png
LOCATION:Solhem\, Kyrkobyvägen 23\, Helsingfors\, Finland
X-APPLE-STRUCTURED-LOCATION;VALUE=URI;X-ADDRESS=Kyrkobyvägen 23\, Helsingf
 ors\, Finland;X-APPLE-RADIUS=100;X-TITLE=Solhem:geo:0,0
END:VEVENT
BEGIN:VTIMEZONE
TZID:Europe/Helsinki
X-LIC-LOCATION:Europe/Helsinki
BEGIN:STANDARD
DTSTART:20231029T030000
TZOFFSETFROM:+0300
TZOFFSETTO:+0200
TZNAME:EET
END:STANDARD
END:VTIMEZONE
END:VCALENDAR