BEGIN:VCALENDAR
VERSION:2.0
PRODID:-//wp-events-plugin.com//7.2.3.1//EN
BEGIN:VEVENT
UID:298@nos.fi
DTSTART;TZID=Europe/Helsinki:20260120T171500
DTEND;TZID=Europe/Helsinki:20260428T193000
DTSTAMP:20251230T080540Z
URL:https://www.nos.fi/evenemang/knyppling-varen-26/
SUMMARY:Knyppling våren -26
DESCRIPTION:Välkommen med och lär dig skapa vacker spets under Anne Hellm
 ans ledning! Att knyppla lär inte vara svårt\, så länge man kan räkna
  till fyra.\n\nKursen passar både erfarna knypplare och nybörjare från 
 ca 12 år uppåt. Nyfikna är också välkomna med och bekanta sig första
  gången och sedan besluta om en vill vara med.\n\nKnypplingen ordnas på 
 tisdagar kl. 17:15-19:30 i samarbete med Malm Svenska Ungdomsförening. Sa
 mmanlagt träffas vi 15 gånger under vårterminen.\n\nMedlemmar i Malm sv
 enska ungdomsförening får 5 € rabatt på kurspriset. Meddela i fältet
  "Mer information" om du är medlem i MSUF. Årets medlemsavgift ska vara 
 betald för att rabatten ska gälla.)\n\nDet är möjligt att ansöka om f
 riplats\, motivera i så fall ansökan med några rader i fältet "Mer inf
 ormation".\n\nMer info och anmälning: Knyppling våren 2026 - Norr om Sta
 n rf
ATTACH;FMTTYPE=image/jpeg:https://www.nos.fi/wp-content/uploads/2023/10/no
 s-logo-evenemang-1.png
CATEGORIES:Hobby
LOCATION:Solhem\, Kyrkobyvägen 23\, Helsingfors\, Finland
X-APPLE-STRUCTURED-LOCATION;VALUE=URI;X-ADDRESS=Kyrkobyvägen 23\, Helsingf
 ors\, Finland;X-APPLE-RADIUS=100;X-TITLE=Solhem:geo:0,0
END:VEVENT
BEGIN:VTIMEZONE
TZID:Europe/Helsinki
X-LIC-LOCATION:Europe/Helsinki
BEGIN:STANDARD
DTSTART:20251026T030000
TZOFFSETFROM:+0300
TZOFFSETTO:+0200
TZNAME:EET
END:STANDARD
BEGIN:DAYLIGHT
DTSTART:20260329T040000
TZOFFSETFROM:+0200
TZOFFSETTO:+0300
TZNAME:EEST
END:DAYLIGHT
END:VTIMEZONE
END:VCALENDAR