BEGIN:VCALENDAR
VERSION:2.0
PRODID:-//wp-events-plugin.com//7.2.3.1//EN
BEGIN:VEVENT
UID:320@nos.fi
DTSTART;TZID=Europe/Helsinki:20260506T173000
DTEND;TZID=Europe/Helsinki:20260506T200000
DTSTAMP:20260226T113108Z
URL:https://www.nos.fi/evenemang/handarbetskvall-lappa-laga-byt-2/
SUMMARY:Handarbetskväll: Lappa\, laga\, byt
DESCRIPTION:Lappa\, laga\, byt – återbruka med hjärtat – 6.5.2026 kl.
  17:30-20:00\nVi vill slå ett slag för att laga istället för att slän
 ga. På Lappa\, laga\, byt möts vi för att:\n- laga sådant som ännu ka
 n användas\n- lappa\, förstärka och förnya\n- sy något helt nytt (kan
 ske av det som redan finns)\n- byta material\, idéer och erfarenheter\n- 
 lära dig sticka\, virka eller varför inte tråckla\nDet här är ingen k
 urs – det är ett öppnat\, kravlösa tillfällen där du jobbar med din
 a egna projekt\, i gott sällskap och en varm tekopp i handen.\nIngen anm
 älan\, gratis. Kvällste\, kaffe och smörgås finns till självkostnadsp
 ris.\nVÄLKOMMEN!
ATTACH;FMTTYPE=image/jpeg:https://www.nos.fi/wp-content/uploads/2023/08/ms
 uf-logga.jpg
CATEGORIES:gratis,handarbete,Hobby
LOCATION:Solhem\, Kyrkobyvägen 23\, Helsingfors\, Finland
X-APPLE-STRUCTURED-LOCATION;VALUE=URI;X-ADDRESS=Kyrkobyvägen 23\, Helsingf
 ors\, Finland;X-APPLE-RADIUS=100;X-TITLE=Solhem:geo:0,0
END:VEVENT
BEGIN:VTIMEZONE
TZID:Europe/Helsinki
X-LIC-LOCATION:Europe/Helsinki
BEGIN:DAYLIGHT
DTSTART:20260329T040000
TZOFFSETFROM:+0200
TZOFFSETTO:+0300
TZNAME:EEST
END:DAYLIGHT
END:VTIMEZONE
END:VCALENDAR